BEGIN:VCALENDAR
VERSION:2.0
PRODID:-//Discover Darrington - ECPv6.15.20//NONSGML v1.0//EN
CALSCALE:GREGORIAN
METHOD:PUBLISH
X-WR-CALNAME:Discover Darrington
X-ORIGINAL-URL:https://www.discoverdarrington.com
X-WR-CALDESC:Events for Discover Darrington
REFRESH-INTERVAL;VALUE=DURATION:PT1H
X-Robots-Tag:noindex
X-PUBLISHED-TTL:PT1H
BEGIN:VTIMEZONE
TZID:UTC
BEGIN:STANDARD
TZOFFSETFROM:+0000
TZOFFSETTO:+0000
TZNAME:UTC
DTSTART:20210101T000000
END:STANDARD
END:VTIMEZONE
BEGIN:VEVENT
DTSTART;TZID=UTC:20250628T173000
DTEND;TZID=UTC:20250628T210000
DTSTAMP:20260423T175603
CREATED:20250309T170053Z
LAST-MODIFIED:20250309T170105Z
UID:4100-1751131800-1751144400@www.discoverdarrington.com
SUMMARY:Darrington Timberbowl Rodeo
DESCRIPTION:Come enjoy a true American tradition\, the rodeo! The Darrington Timberbowl Rodeo has fun for the whole family with some kid’s activities! A beautiful setting with the majestic Whitehorse Mountain in the background. See the lively Ranch Style Bronc Riding\, Bull Riding\, Barrel Racing\, Wild Cow Milking and Break Away Roping. Food will be available at the concession stand and Beer Garden on site. \nRodeo ends when all events are completed\, about 9:00 pm
URL:https://www.discoverdarrington.com/events/darrington-timberbowl-rodeo-5/
LOCATION:Darrington Rodeo Grounds\, 42109 SR 530 NE\, Darrington\, WA\, 98241\, United States
ATTACH;FMTTYPE=image/jpeg:https://www.discoverdarrington.com/wp-content/uploads/2020/01/riding-broncs-at-the-timberbowl-rodeo.jpg
END:VEVENT
BEGIN:VEVENT
DTSTART;VALUE=DATE:20250621
DTEND;VALUE=DATE:20250623
DTSTAMP:20260423T175603
CREATED:20250309T163803Z
LAST-MODIFIED:20250309T163823Z
UID:4092-1750464000-1750636799@www.discoverdarrington.com
SUMMARY:DOHA Play Day Series
DESCRIPTION:Playdays at the rodeo grounds is great fun for both horse and rider for all ages.  This is a good time to hone your riding skills or develop your riding skills. \nEvents Office Hours are 8:30 am to 9:40 am for registration.  All events must be paid during office hours.  Please see their website for further information.  www.darringtonrodeogrounds.org
URL:https://www.discoverdarrington.com/events/doha-play-day-series/
LOCATION:Darrington Rodeo Grounds\, 42109 SR 530 NE\, Darrington\, WA\, 98241\, United States
ATTACH;FMTTYPE=image/jpeg:https://www.discoverdarrington.com/wp-content/uploads/2020/07/rodeo.jpg
END:VEVENT
BEGIN:VEVENT
DTSTART;VALUE=DATE:20250517
DTEND;VALUE=DATE:20250519
DTSTAMP:20260423T175603
CREATED:20250308T175320Z
LAST-MODIFIED:20250309T163301Z
UID:4088-1747440000-1747612799@www.discoverdarrington.com
SUMMARY:DHOA Play Day Series
DESCRIPTION:[vc_row][vc_column][vc_column_text css=”.vc_custom_1741537975892{margin-bottom: 0px !important;}”]Playdays at the rodeo grounds is great fun for both horse and rider for all ages.  This is a good time to hone your riding skills or develop your riding skills. \nEvents Office Hours are 8:30 am to 9:40 am for registration.  All events must be paid during office hours.  Please see their website for further information.  www.darringtonrodeogrounds.org[/vc_column_text][/vc_column][/vc_row]
URL:https://www.discoverdarrington.com/events/dhoa-play-day-series/
LOCATION:Darrington Rodeo Grounds\, 42109 SR 530 NE\, Darrington\, WA\, 98241\, United States
ATTACH;FMTTYPE=image/jpeg:https://www.discoverdarrington.com/wp-content/uploads/2020/07/rodeo.jpg
END:VEVENT
BEGIN:VEVENT
DTSTART;VALUE=DATE:20230916
DTEND;VALUE=DATE:20230918
DTSTAMP:20260423T175603
CREATED:20230423T181715Z
LAST-MODIFIED:20230423T181715Z
UID:4045-1694822400-1694995199@www.discoverdarrington.com
SUMMARY:DHOA Summer Playday Series
DESCRIPTION:This is the last Summer Playday Series for 2023!  Entries start at 6 am and events start at 10 am.  $6 per event and $3 per training.  Playdays at the rodeo grounds is great fun for both horse and rider for all ages.  This is a good time to hone your riding skills or develop your riding skills.  This event will cover; Keg\, Saturn Rings\, Intern Flag\, OMG and Barrels.  To learn more about fees see their website at: www.darringtonrodeogrounds.org
URL:https://www.discoverdarrington.com/events/dhoa-summer-playday-series-6/
LOCATION:Darrington Rodeo Grounds\, 42109 SR 530 NE\, Darrington\, WA\, 98241\, United States
ATTACH;FMTTYPE=image/jpeg:https://www.discoverdarrington.com/wp-content/uploads/2020/07/rodeo.jpg
END:VEVENT
BEGIN:VEVENT
DTSTART;VALUE=DATE:20230819
DTEND;VALUE=DATE:20230821
DTSTAMP:20260423T175603
CREATED:20230423T181200Z
LAST-MODIFIED:20230423T181200Z
UID:4040-1692403200-1692575999@www.discoverdarrington.com
SUMMARY:DHOA Summer Playday Series
DESCRIPTION:Entries start at 6 am and events start at 10 am.  $6 per event and $3 per training.  Playdays at the rodeo grounds is great fun for both horse and rider for all ages.  This is a good time to hone your riding skills or develop your riding skills.  This event will cover; Keg\, Saturn Rings\, Intern Flag\, OMG and Barrels.  To learn more about fees see their website at: www.darringtonrodeogrounds.org
URL:https://www.discoverdarrington.com/events/dhoa-summer-playday-series-5/
LOCATION:Darrington Rodeo Grounds\, 42109 SR 530 NE\, Darrington\, WA\, 98241\, United States
ATTACH;FMTTYPE=image/jpeg:https://www.discoverdarrington.com/wp-content/uploads/2020/07/rodeo.jpg
END:VEVENT
BEGIN:VEVENT
DTSTART;VALUE=DATE:20230804
DTEND;VALUE=DATE:20230807
DTSTAMP:20260423T175603
CREATED:20230312T182248Z
LAST-MODIFIED:20230729T165146Z
UID:4002-1691107200-1691366399@www.discoverdarrington.com
SUMMARY:Re/Evolution Music Festival
DESCRIPTION:A great musical festival for all ages and this is more than a music festival!  Enjoy camping and fellowship in beautiful forest with the famous views of Whitehorse Mountain.  Take home some new found knowledge imparted by some of the speakers.  Learn nwe skills at the workshops.  This is an experince that will last a lifetime!  Having advance tickets is required for entrance.  See their website for ticket purchase.
URL:https://www.discoverdarrington.com/events/re-evolution-music-festival/
LOCATION:Darrington Bluegrass Grounds\, 42501 SR 530\, Darrington\, Washington\, 98241
ATTACH;FMTTYPE=image/jpeg:https://www.discoverdarrington.com/wp-content/uploads/2023/03/earthdance-23-e1690649492960.jpg
END:VEVENT
BEGIN:VEVENT
DTSTART;TZID=UTC:20230801T180000
DTEND;TZID=UTC:20230801T210000
DTSTAMP:20260423T175603
CREATED:20230729T044337Z
LAST-MODIFIED:20230729T164910Z
UID:4061-1690912800-1690923600@www.discoverdarrington.com
SUMMARY:National Night Out
DESCRIPTION:National Night Out Community Block Party on Tuesday\, August 1st\, from 6 pm to 9 pm. Free fun for all! Enjoy BBQ\, snow cones\, bouncy house\, photo booth\, student haircuts\, student backpacks\, raffle prizes\, and more. Join us for a fantastic time with your community! \n 
URL:https://www.discoverdarrington.com/events/national-night-out/
LOCATION:Kid’s Place\, 1063 Fir St\, Darrington\, WA\, 98241\, United States
ATTACH;FMTTYPE=image/png:https://www.discoverdarrington.com/wp-content/uploads/2023/07/national-night-out-e1690649273436.png
END:VEVENT
BEGIN:VEVENT
DTSTART;TZID=UTC:20230730T100000
DTEND;TZID=UTC:20230730T150000
DTSTAMP:20260423T175603
CREATED:20230729T170643Z
LAST-MODIFIED:20230729T170743Z
UID:4077-1690711200-1690729200@www.discoverdarrington.com
SUMMARY:Horses & Horsepower
DESCRIPTION:First ever Horses & Horsepower\, car show and horse show at the Darrington Rodeo Grounds!!\nCome join us for a great day of horse and horse power fun July 30th! Cars will be in the front parking lot\, Barrel racing and Pole Bending in the arena.\nCars check in at 9:30am\, show from 10-3 with awards at 2:30\nHorses check in at 9:00am\, riders meeting 9:40am with youth poles to start at 10:00am. Open and time onlys to follow and then break down for barrels which will run in the same order as poles.
URL:https://www.discoverdarrington.com/events/horses-horsepower/
LOCATION:Darrington Rodeo Grounds\, 42109 SR 530 NE\, Darrington\, WA\, 98241\, United States
ATTACH;FMTTYPE=image/jpeg:https://www.discoverdarrington.com/wp-content/uploads/2023/07/horse-and-horse-power.jpg
END:VEVENT
BEGIN:VEVENT
DTSTART;VALUE=DATE:20230723
DTEND;VALUE=DATE:20230724
DTSTAMP:20260423T175603
CREATED:20230315T172629Z
LAST-MODIFIED:20230315T172629Z
UID:4009-1690070400-1690156799@www.discoverdarrington.com
SUMMARY:Darrington Bluegrass Festival
DESCRIPTION:This will be the 46th annual Darrington Bluegrass Festival and still going strong! Every year this festival offers some of the best bluegrass music in the country and for many years locals and visitors return to enjoy this great event. The music grounds are beautiful over looking Whitehorse Mountain adjacent to forest land where one can camp. There are also some nice destination lodging places to add even more to your Darrington get away.  Learn more… \nSee Ticket Information
URL:https://www.discoverdarrington.com/events/darrington-bluegrass-festival-6/
LOCATION:Darrington Bluegrass Grounds\, 42501 SR 530\, Darrington\, Washington\, 98241
ATTACH;FMTTYPE=image/jpeg:https://www.discoverdarrington.com/wp-content/uploads/2019/11/taking-some-time-to-jam.jpg
END:VEVENT
BEGIN:VEVENT
DTSTART;VALUE=DATE:20230722
DTEND;VALUE=DATE:20230723
DTSTAMP:20260423T175603
CREATED:20230315T170956Z
LAST-MODIFIED:20230315T171758Z
UID:4007-1689984000-1690070399@www.discoverdarrington.com
SUMMARY:Darrington Bluegrass Festival
DESCRIPTION:This will be the 46th annual Darrington Bluegrass Festival and still going strong! Every year this festival offers some of the best bluegrass music in the country and for many years locals and visitors return to enjoy this great event. The music grounds are beautiful over looking Whitehorse Mountain adjacent to forest land where one can camp. There are also some nice destination lodging places to add even more to your Darrington get away.  Learn more… \nSee Ticket Information
URL:https://www.discoverdarrington.com/events/darrington-bluegrass-festival-5/
LOCATION:Darrington Bluegrass Grounds\, 42501 SR 530\, Darrington\, Washington\, 98241
ATTACH;FMTTYPE=image/jpeg:https://www.discoverdarrington.com/wp-content/uploads/2019/11/making-lifetime-memories.jpg
END:VEVENT
BEGIN:VEVENT
DTSTART;TZID=UTC:20230721T090000
DTEND;TZID=UTC:20230721T173000
DTSTAMP:20260423T175603
CREATED:20230315T170326Z
LAST-MODIFIED:20230315T170326Z
UID:4005-1689930000-1689960600@www.discoverdarrington.com
SUMMARY:Darrington Bluegrass Festival
DESCRIPTION:This will be the 46th annual Darrington Bluegrass Festival and still going strong! Every year this festival offers some of the best bluegrass music in the country and for many years locals and visitors return to enjoy this great event. The music grounds are beautiful over looking Whitehorse Mountain adjacent to forest land where one can camp. There are also some nice destination lodging places to add even more to your Darrington get away.  Learn more… \nSee Ticket Information
URL:https://www.discoverdarrington.com/events/darrington-bluegrass-festival-4/
LOCATION:Darrington Bluegrass Grounds\, 42501 SR 530\, Darrington\, Washington\, 98241
ATTACH;FMTTYPE=image/jpeg:https://www.discoverdarrington.com/wp-content/uploads/2019/11/the-lonesome-town-painter.jpg
END:VEVENT
BEGIN:VEVENT
DTSTART;VALUE=DATE:20230721
DTEND;VALUE=DATE:20230724
DTSTAMP:20260423T175603
CREATED:20230312T175846Z
LAST-MODIFIED:20230312T175846Z
UID:4000-1689897600-1690156799@www.discoverdarrington.com
SUMMARY:NFAA Outdoor National Field Championships
DESCRIPTION:Thursday\, July 20th\, opens with official practice.  Event starts on Friday\, July 21st\, with the Field Round\, Saturday\, July 22nd\, is Hunter Round\, the last day is July 23rd\, with Animal Round Shoot Offs and awards following shooting.  To register see the NFAA website.
URL:https://www.discoverdarrington.com/events/nfaa-outdoor-national-field-championships/
LOCATION:Darrington Archery Range\, 312 Sauk Avenue\, Darrington\, WA\, 98241\, United States
ATTACH;FMTTYPE=image/jpeg:https://www.discoverdarrington.com/wp-content/uploads/2020/07/archers-copy.jpg
END:VEVENT
BEGIN:VEVENT
DTSTART;VALUE=DATE:20230715
DTEND;VALUE=DATE:20230717
DTSTAMP:20260423T175603
CREATED:20230423T180659Z
LAST-MODIFIED:20230423T180659Z
UID:4038-1689379200-1689551999@www.discoverdarrington.com
SUMMARY:DHOA Summer Playday Series
DESCRIPTION:Entries start at 6 am and events start at 10 am.  $6 per event and $3 per training.  Playdays at the rodeo grounds is great fun for both horse and rider for all ages.  This is a good time to hone your riding skills or develop your riding skills.  This event will cover; Keg\, Saturn Rings\, Intern Flag\, OMG and Barrels.  To learn more about fees see their website at: www.darringtonrodeogrounds.org
URL:https://www.discoverdarrington.com/events/dhoa-summer-playday-series-4/
LOCATION:Darrington Rodeo Grounds\, 42109 SR 530 NE\, Darrington\, WA\, 98241\, United States
ATTACH;FMTTYPE=image/jpeg:https://www.discoverdarrington.com/wp-content/uploads/2020/07/rodeo.jpg
END:VEVENT
BEGIN:VEVENT
DTSTART;VALUE=DATE:20230715
DTEND;VALUE=DATE:20230717
DTSTAMP:20260423T175603
CREATED:20230423T180246Z
LAST-MODIFIED:20230423T180246Z
UID:4035-1689379200-1689551999@www.discoverdarrington.com
SUMMARY:DHOA Summer Playday Series
DESCRIPTION:Entries start at 6 am and events start at 10 am.  $6 per event and $3 per training.  Playdays at the rodeo grounds is great fun for both horse and rider for all ages.  This is a good time to hone your riding skills or develop your riding skills.  This event will cover; Keg\, Saturn Rings\, Intern Flag\, OMG and Barrels.  To learn more about fees see their website at: www.darringtonrodeogrounds.org
URL:https://www.discoverdarrington.com/events/dhoa-summer-playday-series-3/
LOCATION:Darrington Rodeo Grounds\, 42109 SR 530 NE\, Darrington\, WA\, 98241\, United States
ATTACH;FMTTYPE=image/jpeg:https://www.discoverdarrington.com/wp-content/uploads/2020/07/rodeo.jpg
END:VEVENT
BEGIN:VEVENT
DTSTART;VALUE=DATE:20230625
DTEND;VALUE=DATE:20230626
DTSTAMP:20260423T175603
CREATED:20230423T174132Z
LAST-MODIFIED:20230423T174147Z
UID:4030-1687651200-1687737599@www.discoverdarrington.com
SUMMARY:Timberbowl Rodeo
DESCRIPTION:The Rodeo starts at 6:00 pm.  Come enjoy a true American tradition\, the rodeo!  The Darrington Timberbowl Rodeo has fun for the whole family with some kid’s activities!  A beautiful setting with the majestic Whitehorse Mountain in the background.  See the lively Ranch Style Bronc Riding\, Bull Riding\, Barrel Racing\, Wild Cow Milking and Break Away Roping.  Food will be available at the concession stand and Beer Garden on site.
URL:https://www.discoverdarrington.com/events/timberbowl-rodeo-2/
LOCATION:Darrington Rodeo Grounds\, 42109 SR 530 NE\, Darrington\, WA\, 98241\, United States
ATTACH;FMTTYPE=image/jpeg:https://www.discoverdarrington.com/wp-content/uploads/2020/01/riding-broncs-at-the-timberbowl-rodeo.jpg
END:VEVENT
BEGIN:VEVENT
DTSTART;VALUE=DATE:20230624
DTEND;VALUE=DATE:20230625
DTSTAMP:20260423T175603
CREATED:20230423T173459Z
LAST-MODIFIED:20230423T174313Z
UID:4028-1687564800-1687651199@www.discoverdarrington.com
SUMMARY:Timberbowl Rodeo
DESCRIPTION:The rodeo starts at 6:00 pm.  Come enjoy a true American tradition\, the rodeo!  The Darrington Timberbowl Rodeo has fun for the whole family with some kid’s activities!  A beautiful setting with the majestic Whitehorse Mountain in the background.  See the lively Ranch Style Bronc Riding\, Bull Riding\, Barrel Racing\, Wild Cow Milking and Break Away Roping.  Food will be available at the concession stand and Beer Garden on site.
URL:https://www.discoverdarrington.com/events/timberbowl-rodeo/
LOCATION:Darrington Rodeo Grounds\, 42109 SR 530 NE\, Darrington\, WA\, 98241\, United States
ATTACH;FMTTYPE=image/jpeg:https://www.discoverdarrington.com/wp-content/uploads/2020/01/riding-broncs-at-the-timberbowl-rodeo.jpg
END:VEVENT
BEGIN:VEVENT
DTSTART;VALUE=DATE:20230617
DTEND;VALUE=DATE:20230619
DTSTAMP:20260423T175603
CREATED:20230423T175205Z
LAST-MODIFIED:20230423T175649Z
UID:4033-1686960000-1687132799@www.discoverdarrington.com
SUMMARY:DHOA Summer Playday Series
DESCRIPTION:Entries start at 6 am and events start at 10 am.  $6 per event and $3 per training.  Playdays at the rodeo grounds is great fun for both horse and rider for all ages.  This is a good time to hone your riding skills or develop your riding skills.  This event will cover; Keg\, Saturn Rings\, Intern Flag\, OMG and Barrels.  To learn more about fees see their website at: www.darringtonrodeogrounds.org
URL:https://www.discoverdarrington.com/events/dhoa-summer-playday-series-2/
LOCATION:WA
ATTACH;FMTTYPE=image/jpeg:https://www.discoverdarrington.com/wp-content/uploads/2020/07/rodeo.jpg
END:VEVENT
BEGIN:VEVENT
DTSTART;VALUE=DATE:20230520
DTEND;VALUE=DATE:20230522
DTSTAMP:20260423T175603
CREATED:20230421T200150Z
LAST-MODIFIED:20230423T175438Z
UID:4023-1684540800-1684713599@www.discoverdarrington.com
SUMMARY:DHOA Summer Playday Series
DESCRIPTION:Entries start at 6 am and events start at 10 am.  $6 per event and $3 per training.  Playdays at the rodeo grounds is great fun for both horse and rider for all ages.  This is a good time to hone your riding skills or develop your riding skills.  This event will cover; Keg\, Saturn Rings\, Intern Flag\, OMG and Barrels.  To learn more about fees see their website at:  www.darringtonrodeogrounds.org
URL:https://www.discoverdarrington.com/events/dhoa-summer-playday-series/
LOCATION:Darrington Rodeo Grounds\, 42109 SR 530 NE\, Darrington\, WA\, 98241\, United States
ATTACH;FMTTYPE=image/jpeg:https://www.discoverdarrington.com/wp-content/uploads/2020/07/rodeo.jpg
END:VEVENT
BEGIN:VEVENT
DTSTART;TZID=UTC:20230505T190000
DTEND;TZID=UTC:20230505T210000
DTSTAMP:20260423T175603
CREATED:20230421T195632Z
LAST-MODIFIED:20230421T195632Z
UID:4021-1683313200-1683320400@www.discoverdarrington.com
SUMMARY:Darrington Talent Show
DESCRIPTION:Come enjoy some of the local talents from music\, dancing\, fun skits and more!  Admission by donation.  Proceeds go to the ongoing work of the Darrington Historical Society\, working to preserve our local history.
URL:https://www.discoverdarrington.com/events/darrington-talent-show/
LOCATION:Darrigton High School\, 1085 Fir Street\, Darrington\, WA\, United States
ATTACH;FMTTYPE=image/jpeg:https://www.discoverdarrington.com/wp-content/uploads/2019/04/darringtons-timeless-talent.jpg
END:VEVENT
BEGIN:VEVENT
DTSTART;TZID=UTC:20230429T090000
DTEND;TZID=UTC:20230429T170000
DTSTAMP:20260423T175603
CREATED:20230421T195325Z
LAST-MODIFIED:20230421T195325Z
UID:4018-1682758800-1682787600@www.discoverdarrington.com
SUMMARY:Darrington Community Book Sale
DESCRIPTION:There will be a large community book sale on Saturday at The Mansford Grange to benefit Darrington Strong and all of its subsidiaries. These include Friends of North Mountain\, Whitehorse Community Artisans\, Friends For Public Use\, Friends of Fortson and the town Beautification Project. We hope to make this an annual book sale so your help is needed in making it a success. There has not been a book sale in Darrington in quite a while and it is time to organize a memorable one. Books will be reasonably priced.
URL:https://www.discoverdarrington.com/events/darrington-community-book-sale/
LOCATION:Mansford Grange #710\, 1265 Railroad Ave.\, Darrington\, Washington\, 98241
ATTACH;FMTTYPE=image/png:https://www.discoverdarrington.com/wp-content/uploads/2023/04/book-sale.png
END:VEVENT
BEGIN:VEVENT
DTSTART;TZID=UTC:20230422T060000
DTEND;TZID=UTC:20230422T110000
DTSTAMP:20260423T175603
CREATED:20230421T194832Z
LAST-MODIFIED:20230421T194832Z
UID:4016-1682143200-1682161200@www.discoverdarrington.com
SUMMARY:Darrington Fishing Derby
DESCRIPTION:The annual tradition continues thanks to the Darrington Volunteer Firefighters Association!  Prizes: First Fish\, First Limit (5)\, and Biggest Fish.  Parents must be present to register.  Hot cocao\, coffee and breakfast burittos available by donation.  For more information contact: 360-436-1338.
URL:https://www.discoverdarrington.com/events/darrington-fishing-derby/
LOCATION:Fortson Mill Park\, WA\, United States
ATTACH;FMTTYPE=image/jpeg:https://www.discoverdarrington.com/wp-content/uploads/2019/04/fortson-fishing-derby.jpg
END:VEVENT
BEGIN:VEVENT
DTSTART;TZID=UTC:20221119T100000
DTEND;TZID=UTC:20221119T150000
DTSTAMP:20260423T175603
CREATED:20221025T222213Z
LAST-MODIFIED:20221025T222213Z
UID:3987-1668852000-1668870000@www.discoverdarrington.com
SUMMARY:Winter Bazaar
DESCRIPTION:Come enjoy some down home country fun and support the Darrington Community Center!  There will be food\, vendors\, an auction and a time to see Santa and get a picture with him.
URL:https://www.discoverdarrington.com/events/winter-bazaar/
LOCATION:Darrington Community Center\, 570 Sauk Avenue\, Darrington\, WA\, 98241\, United States
ATTACH;FMTTYPE=image/png:https://www.discoverdarrington.com/wp-content/uploads/2022/10/christmas.png
END:VEVENT
BEGIN:VEVENT
DTSTART;TZID=UTC:20221111T100000
DTEND;TZID=UTC:20221112T160000
DTSTAMP:20260423T175603
CREATED:20221111T182938Z
LAST-MODIFIED:20221111T182938Z
UID:3996-1668160800-1668268800@www.discoverdarrington.com
SUMMARY:Holiday Bazaar
DESCRIPTION:This is a great time to get started on holiday gift shopping!  Come to this down-home fun and unique holiday bazaar.  You’ll find handcrafted stocking stuffers\, Christmas decorations\, homemade jams and the famous Cascade Seniors Gift Baskets\, sure to meet the needs of everyone on your list!
URL:https://www.discoverdarrington.com/events/holiday-bazaar/
LOCATION:Cascade Senior Center\, 1115 Darrington Street\, Darrington\, 98241\, United States
ATTACH;FMTTYPE=image/jpeg:https://www.discoverdarrington.com/wp-content/uploads/2020/12/cascade-seniors-holiday-gift-baskets.jpg
END:VEVENT
BEGIN:VEVENT
DTSTART;TZID=UTC:20221031T163000
DTEND;TZID=UTC:20221031T171500
DTSTAMP:20260423T175603
CREATED:20221025T221103Z
LAST-MODIFIED:20221025T221103Z
UID:3985-1667233800-1667236500@www.discoverdarrington.com
SUMMARY:Halloween Witch Dancers
DESCRIPTION:Come kick off Halloween with some fun and silliness as the Darrington Witch Dancers show you some fancy steps!  This is fun for the whole family with toys and treats!
URL:https://www.discoverdarrington.com/events/halloween-witch-dancers/
LOCATION:Old School Park in town\, 1070 Alvord Street\, Darrington\, Washington\, 98241
ATTACH;FMTTYPE=image/jpeg:https://www.discoverdarrington.com/wp-content/uploads/2021/10/trunk-or-treat.jpg
END:VEVENT
BEGIN:VEVENT
DTSTART;TZID=UTC:20221031T051500
DTEND;TZID=UTC:20221031T190000
DTSTAMP:20260423T175603
CREATED:20221025T213808Z
LAST-MODIFIED:20221025T213808Z
UID:3982-1667193300-1667242800@www.discoverdarrington.com
SUMMARY:Trunk or Treat
DESCRIPTION:Enjoy a not too spooky family fun Halloween!  There will be music and decorated trunks all waiting for the kids to come on by for Trick or Treat.  For those bringing you cars with decorated trunks\, the will be a contest for Best Trunk!
URL:https://www.discoverdarrington.com/events/trunk-or-treat/
LOCATION:Darrington Community Center\, 570 Sauk Avenue\, Darrington\, WA\, 98241\, United States
ATTACH;FMTTYPE=image/jpeg:https://www.discoverdarrington.com/wp-content/uploads/2020/09/darrington-trunk-or-treat.jpg
END:VEVENT
BEGIN:VEVENT
DTSTART;VALUE=DATE:20220911
DTEND;VALUE=DATE:20220912
DTSTAMP:20260423T175603
CREATED:20220311T192714Z
LAST-MODIFIED:20220311T192720Z
UID:3859-1662854400-1662940799@www.discoverdarrington.com
SUMMARY:Summer Playday Series
DESCRIPTION:[vc_row][vc_column][vc_column_text]Playdays at the rodeo grounds is great fun for both horse and rider for all ages.  This is a good time to hone your riding skills or develop your riding skills.  This event will cover; Keg\, Stilly 8\, Polo\, Tunnel Vision and Barrels.  To learn more about fees see their website at Darrington Timberbowl Rodeo.[/vc_column_text][/vc_column][/vc_row]
URL:https://www.discoverdarrington.com/events/summer-playday-series/
LOCATION:Darrington Rodeo Grounds\, 42109 SR 530 NE\, Darrington\, WA\, 98241\, United States
ATTACH;FMTTYPE=image/jpeg:https://www.discoverdarrington.com/wp-content/uploads/2019/03/timberbowl-rodeo-e1553630415201.jpg
END:VEVENT
BEGIN:VEVENT
DTSTART;VALUE=DATE:20220910
DTEND;VALUE=DATE:20220911
DTSTAMP:20260423T175603
CREATED:20220311T193051Z
LAST-MODIFIED:20220311T193056Z
UID:3857-1662768000-1662854399@www.discoverdarrington.com
SUMMARY:Summer Playday Series
DESCRIPTION:[vc_row][vc_column][vc_column_text]Playdays at the rodeo grounds is great fun for both horse and rider for all ages.  This is a good time to hone your riding skills or develop your riding skills.  This event will cover; Poles\, Stake\, 1/2 8\, Lane Barrels and Weaver.  To learn more about fees see their website at Darrington Timberbowl Rodeo.[/vc_column_text][/vc_column][/vc_row]
URL:https://www.discoverdarrington.com/events/summer-playday-series-2/
LOCATION:Darrington Rodeo Grounds\, 42109 SR 530 NE\, Darrington\, WA\, 98241\, United States
ATTACH;FMTTYPE=image/jpeg:https://www.discoverdarrington.com/wp-content/uploads/2019/03/timberbowl-rodeo-e1553630415201.jpg
END:VEVENT
BEGIN:VEVENT
DTSTART;TZID=UTC:20220827T100000
DTEND;TZID=UTC:20220827T150000
DTSTAMP:20260423T175603
CREATED:20220727T220708Z
LAST-MODIFIED:20220727T220708Z
UID:3952-1661594400-1661612400@www.discoverdarrington.com
SUMMARY:Mountain Day Celebration
DESCRIPTION:The Whitehorse Community Artisans presents the first annual Mountain Day Celebration!  This will be a celebration of our valley’s local talents and heritage.  Discover the local artisan vendors\, be sure to learn some new things at the live presentations and learn some local history and heritage too.  There will be fun for the whole family including children’s activities and don’t miss the bake sale.  Watch this group grow with the big dream to make our area an artisan destination!
URL:https://www.discoverdarrington.com/events/mountain-day-celebration/
LOCATION:Darrington Community Center\, 570 Sauk Avenue\, Darrington\, WA\, 98241\, United States
ATTACH;FMTTYPE=image/png:https://www.discoverdarrington.com/wp-content/uploads/2022/07/wca-event.png
ORGANIZER;CN="Whitehorse Community Artisans":MAILTO:wcadarrington@gmail.com
END:VEVENT
BEGIN:VEVENT
DTSTART;TZID=UTC:20220827T100000
DTEND;TZID=UTC:20220827T150000
DTSTAMP:20260423T175603
CREATED:20220727T214742Z
LAST-MODIFIED:20220727T214742Z
UID:3950-1661594400-1661612400@www.discoverdarrington.com
SUMMARY:5th Annual Car Show
DESCRIPTION:The Red Top Tavern and River Time Brewing are proud to present the 5th Annual Car Show!  Bring the whole family for a day of fun! Registration starts at 11:30 am.  The first 50 cars will receive a plague.  Entrance fee is $20.00 and all proceeds go to help the Darrington Junior Athletic Association.
URL:https://www.discoverdarrington.com/events/5th-annual-car-show/
LOCATION:Darrington Street – Old Town\, Darrington\, WA\, 98241\, United States
ATTACH;FMTTYPE=image/jpeg:https://www.discoverdarrington.com/wp-content/uploads/2021/04/sports-car-by-charlie-duncan-photography.jpg
ORGANIZER;CN="The Red Top Tavern":MAILTO:gregolthoff425@gmail.com
END:VEVENT
BEGIN:VEVENT
DTSTART;TZID=UTC:20220821T120000
DTEND;TZID=UTC:20220821T180000
DTSTAMP:20260423T175603
CREATED:20220214T183452Z
LAST-MODIFIED:20220214T183500Z
UID:3808-1661083200-1661104800@www.discoverdarrington.com
SUMMARY:12th Annual Hoobajoob Art Show
DESCRIPTION:[vc_row][vc_column][vc_column_text]This is Darrington’s longest continually running art show\, extant! Featured are the unique and eclectic works of local artists Holly Cannell\, Gordy Beil & Ron Wolff. \nArtist Holly Cannell:  “I create bright abstract art using a variety of materials including paint\, paper\, and found objects. Color and texture are important to me and this comes through in my artwork. I want to express joy and share that with the viewer. Forms drawn from the natural world frequently appear in my work\, a jagged line that imitates the edge of a leaf for example. I love the beautiful trees\, streams\, and mountains visible in Darrington. Living here is heaven for me.” \nArtist Ron Wolff:  “My abstract works are never done. These colorful excursions on paper never reach completion. This presentation of my art\, at the Hoobajoob\, marks a present state of being and not a land fall. My art is created with oil pastel\, charcoal\, colored pencil and dry pastel.” \nArtist Goedy Beil:   “My work encompasses a broad variety of media: mono-print\, block printing\, solvent transfers\, intaglio engraving\, collage\, painting in acrylic\, found object constructions\, photography (B&W and color) and manipulated Polaroid photography.”[/vc_column_text][/vc_column][/vc_row]
URL:https://www.discoverdarrington.com/events/12th-annual-hoobajoob-art-show/
LOCATION:Hoobajoob Art Studio\, 605 Emens Ave North\, Darrington\, WA\, 98241\, United States
ATTACH;FMTTYPE=image/jpeg:https://www.discoverdarrington.com/wp-content/uploads/2020/07/rivers.jpeg
END:VEVENT
END:VCALENDAR