BEGIN:VCALENDAR
VERSION:2.0
PRODID:-//Discover Darrington - ECPv6.15.20//NONSGML v1.0//EN
CALSCALE:GREGORIAN
METHOD:PUBLISH
X-ORIGINAL-URL:https://www.discoverdarrington.com
X-WR-CALDESC:Events for Discover Darrington
REFRESH-INTERVAL;VALUE=DURATION:PT1H
X-Robots-Tag:noindex
X-PUBLISHED-TTL:PT1H
BEGIN:VTIMEZONE
TZID:UTC
BEGIN:STANDARD
TZOFFSETFROM:+0000
TZOFFSETTO:+0000
TZNAME:UTC
DTSTART:20190101T000000
END:STANDARD
END:VTIMEZONE
BEGIN:VEVENT
DTSTART;TZID=UTC:20200510T100000
DTEND;TZID=UTC:20200510T150000
DTSTAMP:20260424T101157
CREATED:20200711T180618Z
LAST-MODIFIED:20200711T180618Z
UID:3117-1589104800-1589122800@www.discoverdarrington.com
SUMMARY:Spring Plant Sale (Cancelled)
DESCRIPTION:There will be a large assortment of colorful annual and perennial flowers to spruce up the yard.  See the large geranium selection in a rainbow of colors and varieties to choose from.  Lots of flower baskets and assorted vegetable starts to help you get a jump on the season.  All proceeds go to help maintain the Mansford Grange Hall and help with their community activities.  Doors open at 10 am and ends 3 pm or until sold out.
URL:https://www.discoverdarrington.com/events/spring-plant-sale-cancelled/
LOCATION:Mansford Grange #710\, 1265 Railroad Ave.\, Darrington\, Washington\, 98241
ATTACH;FMTTYPE=image/jpeg:https://www.discoverdarrington.com/wp-content/uploads/2020/07/mansford-grange-plant-sale-scaled.jpg
END:VEVENT
BEGIN:VEVENT
DTSTART;VALUE=DATE:20200509
DTEND;VALUE=DATE:20200511
DTSTAMP:20260424T101157
CREATED:20200711T174540Z
LAST-MODIFIED:20200711T174540Z
UID:3114-1588982400-1589155199@www.discoverdarrington.com
SUMMARY:Play Day At The Rodeo (Cancelled)
DESCRIPTION:Fun For Both Horse and Rider!  This is a great opportunity to improve your riding skills and better work with your horse.  Enjoy the day with like minded people all the while with the beautiful backdrop of Whitehorse Mountain.  Signups at 9 am\, Events starts at 10 am\, at the Darrington Rodeo Grounds. $5 charge per event\, $3 charge for training per event.
URL:https://www.discoverdarrington.com/events/play-day-at-the-rodeo-cancelled/
LOCATION:Darrington Rodeo Grounds\, 42109 SR 530 NE\, Darrington\, WA\, 98241\, United States
ATTACH;FMTTYPE=image/jpeg:https://www.discoverdarrington.com/wp-content/uploads/2020/07/rodeo.jpg
END:VEVENT
BEGIN:VEVENT
DTSTART;TZID=UTC:20200412T190000
DTEND;TZID=UTC:20200412T213000
DTSTAMP:20260424T101157
CREATED:20200711T171907Z
LAST-MODIFIED:20200711T171907Z
UID:3111-1586718000-1586727000@www.discoverdarrington.com
SUMMARY:Community Contra Dance (Cancelled)
DESCRIPTION:No partner necessary\, no experience necessary!  Just bring your dancing feet & have a lot of fun!  Everyone Welcome!  Community Contra Dance – Family Friendly And Fun For All Ages!  Come kick up your heels for some fun Contra/Square Dances at the Mansford Grange!  Or just tap your toes & enjoy the music – dancing optional.  Enjoy an evening of live & lively old-time music and dance.  Bring the whole family!  Potluck starts at 6pm\, Dance starts at 7 pm to 9:30 pm – This will be the last Community Contra Dance
URL:https://www.discoverdarrington.com/events/community-contra-dance-cancelled/
LOCATION:Washington
ATTACH;FMTTYPE=image/jpeg:https://www.discoverdarrington.com/wp-content/uploads/2020/07/4-shoe.jpg
END:VEVENT
BEGIN:VEVENT
DTSTART;TZID=UTC:20200320T190000
DTEND;TZID=UTC:20200320T190000
DTSTAMP:20260424T101157
CREATED:20200615T184931Z
LAST-MODIFIED:20200615T184931Z
UID:2852-1584730800-1584730800@www.discoverdarrington.com
SUMMARY:Darrington Talent Show (Canceled)
DESCRIPTION:March 20\, 2020\, doors open at 7 pm\, at the Darrington High School Auditorium\, 1065 Fir Street\, Darrington WA 98241.  This is an annual fundraiser for the Darrington Historical Society\, suggested donation $10 per person\, door proceeds go toward their efforts to preserve Darrington heritage for future generations. \nTimeless beauty
URL:https://www.discoverdarrington.com/events/darrington-talent-show-canceled/
LOCATION:Washington
END:VEVENT
BEGIN:VEVENT
DTSTART;TZID=UTC:20200118T103000
DTEND;TZID=UTC:20200118T123000
DTSTAMP:20260424T101157
CREATED:20200112T235233Z
LAST-MODIFIED:20200112T235233Z
UID:1517-1579343400-1579350600@www.discoverdarrington.com
SUMMARY:Sharing Memories - Looking back 95 years of Darrington
DESCRIPTION:Please join us as we learn the history of this place we call home and hear the stories and memories as only our elders can tell them. \nFrank Bryson\, long time resident\, born and raised here and wife Frankie Nations-Bryson\, arriving to Darrington as a young girl from North Carolina\, back in 1937\,  will share their memories and pictures of Darrington and surrounding areas. \nLight refreshments will be provided
URL:https://www.discoverdarrington.com/events/sharing-memories-looking-back-95-years-of-darrington/
LOCATION:Darrington Library\, 1005 Cascade St.\, Darrington\, WA\, 98241\, United States
ATTACH;FMTTYPE=image/jpeg:https://www.discoverdarrington.com/wp-content/uploads/2019/06/timberbowl-parade.jpg
END:VEVENT
END:VCALENDAR