BEGIN:VCALENDAR
VERSION:2.0
PRODID:-//Discover Darrington - ECPv6.15.20//NONSGML v1.0//EN
CALSCALE:GREGORIAN
METHOD:PUBLISH
X-WR-CALNAME:Discover Darrington
X-ORIGINAL-URL:https://www.discoverdarrington.com
X-WR-CALDESC:Events for Discover Darrington
REFRESH-INTERVAL;VALUE=DURATION:PT1H
X-Robots-Tag:noindex
X-PUBLISHED-TTL:PT1H
BEGIN:VTIMEZONE
TZID:UTC
BEGIN:STANDARD
TZOFFSETFROM:+0000
TZOFFSETTO:+0000
TZNAME:UTC
DTSTART:20190101T000000
END:STANDARD
END:VTIMEZONE
BEGIN:VEVENT
DTSTART;TZID=UTC:20200724T060000
DTEND;TZID=UTC:20200726T180000
DTSTAMP:20260424T083641
CREATED:20200713T161607Z
LAST-MODIFIED:20200713T161933Z
UID:3146-1595570400-1595786400@www.discoverdarrington.com
SUMMARY:2020 NFAA Archery National Outdoor Field Nationals (Cancelled)
DESCRIPTION:Welcome the extended family of archers back to Darrington!  Please see their website for further information:  www.darringtonarchers.com
URL:https://www.discoverdarrington.com/events/2020-nfaa-archery-national-outdoor-field-nationals-cancelled/
LOCATION:Darrington Archery Range\, 312 Sauk Avenue\, Darrington\, WA\, 98241\, United States
ATTACH;FMTTYPE=image/jpeg:https://www.discoverdarrington.com/wp-content/uploads/2020/07/archers-copy.jpg
END:VEVENT
BEGIN:VEVENT
DTSTART;TZID=UTC:20200718T100000
DTEND;TZID=UTC:20200719T170000
DTSTAMP:20260424T083641
CREATED:20200713T160232Z
LAST-MODIFIED:20200713T160547Z
UID:3139-1595066400-1595178000@www.discoverdarrington.com
SUMMARY:Darrington Rock and Gem Show and Sale (Cancelled)
DESCRIPTION:Free Admission\, Free Prizes\, Free Rocks!  Make a day of it with children’s activities\, door prizes and rock collecting maps.  For the collectors\, you will find used tools for purchase and custom rock cutting will be set up.  You can also get your dealer certificates here.  Field trip for collecting travertine leaves at 11 am on Saturday.
URL:https://www.discoverdarrington.com/events/darrington-rock-and-gem-show-and-sale/
LOCATION:Mansford Grange #710\, 1265 Railroad Ave.\, Darrington\, Washington\, 98241
ATTACH;FMTTYPE=image/jpeg:https://www.discoverdarrington.com/wp-content/uploads/2020/07/rock-and-gem-show-1.jpg
END:VEVENT
BEGIN:VEVENT
DTSTART;VALUE=DATE:20200717
DTEND;VALUE=DATE:20200720
DTSTAMP:20260424T083641
CREATED:20200711T190048Z
LAST-MODIFIED:20200711T190225Z
UID:3132-1594944000-1595203199@www.discoverdarrington.com
SUMMARY:Darrington Bluegrass Festival (Cancelled)
DESCRIPTION:This will be the 44th annual Darrington Bluegrass Festival and still going strong!  Every year this festival offers some of the best bluegrass music in the country and for many years locals and visitors return to enjoy this great event.  The music grounds are beautiful over looking Whitehorse Mountain adjacent to forest land where one can camp.  There are also some nice destination lodging places to add even more to your Darrington get away.  Learn more…
URL:https://www.discoverdarrington.com/events/darrington-bluegrass-festival-cancelled/
LOCATION:Darrington Bluegrass Grounds\, 42501 SR 530\, Darrington\, Washington\, 98241
ATTACH;FMTTYPE=image/jpeg:https://www.discoverdarrington.com/wp-content/uploads/2019/11/the-lonesome-town-painter.jpg
END:VEVENT
BEGIN:VEVENT
DTSTART;VALUE=DATE:20200711
DTEND;VALUE=DATE:20200713
DTSTAMP:20260424T083641
CREATED:20200713T201704Z
LAST-MODIFIED:20200713T201704Z
UID:3152-1594425600-1594598399@www.discoverdarrington.com
SUMMARY:Play Day at the Rodeo (Cancelled)
DESCRIPTION:Fun For Both Horse and Rider!  This is a great opportunity to improve your riding skills and better work with your horse.  Enjoy the day with like minded people all the while with the beautiful backdrop of Whitehorse Mountain.  Signups at 9 am\, Events starts at 10 am\, at the Darrington Rodeo Grounds. $5 charge per event\, $3 charge for training per event.
URL:https://www.discoverdarrington.com/events/play-day-at-the-rodeo-cancelled-4/
LOCATION:Darrington Bluegrass Grounds\, 42501 SR 530\, Darrington\, Washington\, 98241
ATTACH;FMTTYPE=image/jpeg:https://www.discoverdarrington.com/wp-content/uploads/2020/07/rodeo.jpg
END:VEVENT
BEGIN:VEVENT
DTSTART;VALUE=DATE:20200711
DTEND;VALUE=DATE:20200713
DTSTAMP:20260424T083641
CREATED:20200711T182109Z
LAST-MODIFIED:20200711T182212Z
UID:3126-1594425600-1594598399@www.discoverdarrington.com
SUMMARY:Play Day At The Rodeo (Cancelled)
DESCRIPTION:Fun For Both Horse and Rider! This is a great opportunity to improve your riding skills and better work with your horse. Enjoy the day with like minded people all the while with the beautiful backdrop of Whitehorse Mountain. Signups at 9 am\, Events starts at 10 am\, at the Darrington Rodeo Grounds. $5 charge per event\, $3 charge for training per event.
URL:https://www.discoverdarrington.com/events/play-day-at-the-rodeo-cancelled-3/
LOCATION:Darrington Rodeo Grounds\, 42109 SR 530 NE\, Darrington\, WA\, 98241\, United States
ATTACH;FMTTYPE=image/jpeg:https://www.discoverdarrington.com/wp-content/uploads/2020/07/rodeo.jpg
END:VEVENT
BEGIN:VEVENT
DTSTART;TZID=UTC:20200704T123000
DTEND;TZID=UTC:20200704T163000
DTSTAMP:20260424T083641
CREATED:20200711T183913Z
LAST-MODIFIED:20200711T183913Z
UID:3128-1593865800-1593880200@www.discoverdarrington.com
SUMMARY:4th of July Community Fair (Cancelled)
DESCRIPTION:Good Old Fashion Fun Is Alive And Well In Darrington!  After the short Darrington 4th of July Parade starting at noon\, come to Old School Park and join the fun.  There will games for everyone like Tug O War\, balloon toss and Racing Turtles and the Duck Pond for the kids.  The Darrington Fire Department with be there with their water tank truck to help cool off the kids.  We also have other community organizations providing games\, vendors and the North Counties Family Services will be cooking up hot dogs and the works.
URL:https://www.discoverdarrington.com/events/4th-of-july-community-fair-cancelled/
LOCATION:Old School Park in town\, Darrington\, Washington\, 98241
ATTACH;FMTTYPE=image/jpeg:https://www.discoverdarrington.com/wp-content/uploads/2019/06/tug-of-war-at-darrington-wa.jpg
END:VEVENT
BEGIN:VEVENT
DTSTART;TZID=UTC:20200628T140000
DTEND;TZID=UTC:20200628T140000
DTSTAMP:20260424T083641
CREATED:20200113T002944Z
LAST-MODIFIED:20200615T190254Z
UID:1529-1593352800-1593352800@www.discoverdarrington.com
SUMMARY:Darrington Timberbowl Rodeo (Canceled)
DESCRIPTION:Come to the rodeo and watch Rough Stock Series\, Ranch Saddle Bronc Riding\, Bull Riding & Ladies Barrel Racing.   This is a great family event and something for all ages!  Watch the kids race stick ponies or try to catch that very elusive chicken!  The concession stand offers assorted refreshments to make a good picnic meal.  See their website
URL:https://www.discoverdarrington.com/events/darrington-timberbowl-rodeo-2/
LOCATION:Darrington Rodeo Grounds\, 42109 SR 530 NE\, Darrington\, WA\, 98241\, United States
ATTACH;FMTTYPE=image/jpeg:https://www.discoverdarrington.com/wp-content/uploads/2020/01/riding-broncs-at-the-timberbowl-rodeo.jpg
END:VEVENT
BEGIN:VEVENT
DTSTART;TZID=UTC:20200627T180000
DTEND;TZID=UTC:20200627T180000
DTSTAMP:20260424T083641
CREATED:20200113T002420Z
LAST-MODIFIED:20200615T185632Z
UID:1524-1593280800-1593280800@www.discoverdarrington.com
SUMMARY:Darrington Timberbowl Rodeo (Canceled)
DESCRIPTION:Come to the rodeo and watch Rough Stock Series\, Ranch Saddle Bronc Riding\, Bull Riding & Ladies Barrel Racing.   This is a great family event and something for all ages!  Watch the kids race stick ponies or try to catch that very elusive chicken!  The concession stand offers assorted refreshments to make a good picnic meal.  See their website… \nThe Timberbowl Rodeo\, photo by Pam Fritchman
URL:https://www.discoverdarrington.com/events/darrington-timberbowl-rodeo/
LOCATION:Darrington Rodeo Grounds\, 42109 SR 530 NE\, Darrington\, WA\, 98241\, United States
ATTACH;FMTTYPE=image/jpeg:https://www.discoverdarrington.com/wp-content/uploads/2020/01/riding-broncs-at-the-timberbowl-rodeo.jpg
END:VEVENT
BEGIN:VEVENT
DTSTART;VALUE=DATE:20200618
DTEND;VALUE=DATE:20200622
DTSTAMP:20260424T083641
CREATED:20200615T192829Z
LAST-MODIFIED:20200615T192829Z
UID:2857-1592438400-1592783999@www.discoverdarrington.com
SUMMARY:Re-Evolution Music Festival (Canceled)
DESCRIPTION:We are excited to introduce a new music festival coming to Darrington\, the Re-Evolution!  This is a special Solstice celebration of music\, workshops\, speakers and fellowship.  Admission $98.99 – children under 16 are free.  Camping available\, the mountain views memorable.
URL:https://www.discoverdarrington.com/events/re-evolution-music-festival-canceled/
LOCATION:Darrington Bluegrass Grounds\, 42501 SR 530\, Darrington\, Washington\, 98241
END:VEVENT
BEGIN:VEVENT
DTSTART;VALUE=DATE:20200613
DTEND;VALUE=DATE:20200615
DTSTAMP:20260424T083641
CREATED:20200711T181226Z
LAST-MODIFIED:20200711T181501Z
UID:3124-1592006400-1592179199@www.discoverdarrington.com
SUMMARY:Play Day at the Rodeo (Cancelled)
DESCRIPTION:Fun For Both Horse and Rider! This is a great opportunity to improve your riding skills and better work with your horse. Enjoy the day with like minded people all the while with the beautiful backdrop of Whitehorse Mountain. Signups at 9 am\, Events starts at 10 am\, at the Darrington Rodeo Grounds. $5 charge per event\, $3 charge for training per event.
URL:https://www.discoverdarrington.com/events/play-day-at-the-rodeo-cancelled-2/
LOCATION:Darrington Rodeo Grounds\, 42109 SR 530 NE\, Darrington\, WA\, 98241\, United States
ATTACH;FMTTYPE=image/jpeg:https://www.discoverdarrington.com/wp-content/uploads/2020/07/rodeo.jpg
END:VEVENT
BEGIN:VEVENT
DTSTART;TZID=UTC:20200510T100000
DTEND;TZID=UTC:20200510T150000
DTSTAMP:20260424T083641
CREATED:20200711T180618Z
LAST-MODIFIED:20200711T180618Z
UID:3117-1589104800-1589122800@www.discoverdarrington.com
SUMMARY:Spring Plant Sale (Cancelled)
DESCRIPTION:There will be a large assortment of colorful annual and perennial flowers to spruce up the yard.  See the large geranium selection in a rainbow of colors and varieties to choose from.  Lots of flower baskets and assorted vegetable starts to help you get a jump on the season.  All proceeds go to help maintain the Mansford Grange Hall and help with their community activities.  Doors open at 10 am and ends 3 pm or until sold out.
URL:https://www.discoverdarrington.com/events/spring-plant-sale-cancelled/
LOCATION:Mansford Grange #710\, 1265 Railroad Ave.\, Darrington\, Washington\, 98241
ATTACH;FMTTYPE=image/jpeg:https://www.discoverdarrington.com/wp-content/uploads/2020/07/mansford-grange-plant-sale-scaled.jpg
END:VEVENT
BEGIN:VEVENT
DTSTART;VALUE=DATE:20200509
DTEND;VALUE=DATE:20200511
DTSTAMP:20260424T083641
CREATED:20200711T174540Z
LAST-MODIFIED:20200711T174540Z
UID:3114-1588982400-1589155199@www.discoverdarrington.com
SUMMARY:Play Day At The Rodeo (Cancelled)
DESCRIPTION:Fun For Both Horse and Rider!  This is a great opportunity to improve your riding skills and better work with your horse.  Enjoy the day with like minded people all the while with the beautiful backdrop of Whitehorse Mountain.  Signups at 9 am\, Events starts at 10 am\, at the Darrington Rodeo Grounds. $5 charge per event\, $3 charge for training per event.
URL:https://www.discoverdarrington.com/events/play-day-at-the-rodeo-cancelled/
LOCATION:Darrington Rodeo Grounds\, 42109 SR 530 NE\, Darrington\, WA\, 98241\, United States
ATTACH;FMTTYPE=image/jpeg:https://www.discoverdarrington.com/wp-content/uploads/2020/07/rodeo.jpg
END:VEVENT
BEGIN:VEVENT
DTSTART;TZID=UTC:20200412T190000
DTEND;TZID=UTC:20200412T213000
DTSTAMP:20260424T083641
CREATED:20200711T171907Z
LAST-MODIFIED:20200711T171907Z
UID:3111-1586718000-1586727000@www.discoverdarrington.com
SUMMARY:Community Contra Dance (Cancelled)
DESCRIPTION:No partner necessary\, no experience necessary!  Just bring your dancing feet & have a lot of fun!  Everyone Welcome!  Community Contra Dance – Family Friendly And Fun For All Ages!  Come kick up your heels for some fun Contra/Square Dances at the Mansford Grange!  Or just tap your toes & enjoy the music – dancing optional.  Enjoy an evening of live & lively old-time music and dance.  Bring the whole family!  Potluck starts at 6pm\, Dance starts at 7 pm to 9:30 pm – This will be the last Community Contra Dance
URL:https://www.discoverdarrington.com/events/community-contra-dance-cancelled/
LOCATION:Washington
ATTACH;FMTTYPE=image/jpeg:https://www.discoverdarrington.com/wp-content/uploads/2020/07/4-shoe.jpg
END:VEVENT
BEGIN:VEVENT
DTSTART;TZID=UTC:20200320T190000
DTEND;TZID=UTC:20200320T190000
DTSTAMP:20260424T083641
CREATED:20200615T184931Z
LAST-MODIFIED:20200615T184931Z
UID:2852-1584730800-1584730800@www.discoverdarrington.com
SUMMARY:Darrington Talent Show (Canceled)
DESCRIPTION:March 20\, 2020\, doors open at 7 pm\, at the Darrington High School Auditorium\, 1065 Fir Street\, Darrington WA 98241.  This is an annual fundraiser for the Darrington Historical Society\, suggested donation $10 per person\, door proceeds go toward their efforts to preserve Darrington heritage for future generations. \nTimeless beauty
URL:https://www.discoverdarrington.com/events/darrington-talent-show-canceled/
LOCATION:Washington
END:VEVENT
BEGIN:VEVENT
DTSTART;TZID=UTC:20200118T103000
DTEND;TZID=UTC:20200118T123000
DTSTAMP:20260424T083641
CREATED:20200112T235233Z
LAST-MODIFIED:20200112T235233Z
UID:1517-1579343400-1579350600@www.discoverdarrington.com
SUMMARY:Sharing Memories - Looking back 95 years of Darrington
DESCRIPTION:Please join us as we learn the history of this place we call home and hear the stories and memories as only our elders can tell them. \nFrank Bryson\, long time resident\, born and raised here and wife Frankie Nations-Bryson\, arriving to Darrington as a young girl from North Carolina\, back in 1937\,  will share their memories and pictures of Darrington and surrounding areas. \nLight refreshments will be provided
URL:https://www.discoverdarrington.com/events/sharing-memories-looking-back-95-years-of-darrington/
LOCATION:Darrington Library\, 1005 Cascade St.\, Darrington\, WA\, 98241\, United States
ATTACH;FMTTYPE=image/jpeg:https://www.discoverdarrington.com/wp-content/uploads/2019/06/timberbowl-parade.jpg
END:VEVENT
END:VCALENDAR